BEGIN:VCALENDAR
PRODID:-//AT Content Types//AT Event//EN
VERSION:1.0
BEGIN:VEVENT
DTSTART:20211028T173000Z
DTEND:20211028T210000Z
DCREATED:20211009T091350Z
UID:ATEvent-e1b5208c66f0459892b5ecaafa9e4213
SEQUENCE:0
LAST-MODIFIED:20211009T091357Z
SUMMARY:UofL Supplier Diversity Vendor Show
LOCATION:University Club
PRIORITY:3
TRANSP:0
END:VEVENT
END:VCALENDAR
