BEGIN:VCALENDAR
PRODID:-//AT Content Types//AT Event//EN
VERSION:2.0
METHOD:PUBLISH
BEGIN:VEVENT
DTSTAMP:20260419T131553Z
CREATED:20190407T045819Z
UID:ATEvent-812dd6c796a6478e872f148bf416c368
LAST-MODIFIED:20200513T195507Z
SUMMARY:UofL J.A.M. (Justice And Music)
DTSTART:20190409T200000Z
DTEND:20190409T220000Z
LOCATION:Red Barn
URL:https://events.louisville.edu/event/uofl_jam#.XKmBh6J7nIU
CLASS:PUBLIC
END:VEVENT
END:VCALENDAR
