BEGIN:VCALENDAR
PRODID:-//AT Content Types//AT Event//EN
VERSION:2.0
METHOD:PUBLISH
BEGIN:VEVENT
DTSTAMP:20260421T170355Z
CREATED:20240227T063530Z
UID:ATEvent-749c16c7761f4f98a7b1a0f395d45c15
LAST-MODIFIED:20240227T063538Z
SUMMARY:UNA Women Earth Day Workshop
DTSTART:20240303T230000Z
DTEND:20240304T000000Z
LOCATION:SAC W107
CLASS:PUBLIC
END:VEVENT
END:VCALENDAR
