BEGIN:VCALENDAR
PRODID:-//AT Content Types//AT Event//EN
VERSION:1.0
BEGIN:VEVENT
DTSTART:20260410T160000Z
DTEND:20260410T173000Z
DCREATED:20260403T063809Z
UID:ATEvent-f3844917bf184979b2043fcffab61b5c
SEQUENCE:0
LAST-MODIFIED:20260403T063820Z
SUMMARY:Steal Away Medicine: Herbs\, Autonomy\, and the Right to Heal
LOCATION:Center for Belonging\, Access\, and Engagement - Multi Purpose Room
PRIORITY:3
TRANSP:0
END:VEVENT
END:VCALENDAR
