BEGIN:VCALENDAR
PRODID:-//AT Content Types//AT Event//EN
VERSION:2.0
METHOD:PUBLISH
BEGIN:VEVENT
DTSTAMP:20260423T162612Z
CREATED:20260217T224202Z
UID:ATEvent-2893afa09c5a4b3eaa1fa34d4bcf14cb
LAST-MODIFIED:20260217T224208Z
SUMMARY:Migrant Farm Workers: The Essential Work Force
DTSTART:20260304T223000Z
DTEND:20260304T233000Z
LOCATION:Shumaker Research Building room 139
CONTACT:Lisa Markowitz\, lisam@louisville.edu
CLASS:PUBLIC
END:VEVENT
END:VCALENDAR
