BEGIN:VCALENDAR
PRODID:-//AT Content Types//AT Event//EN
VERSION:1.0
BEGIN:VEVENT
DTSTART:20260404T160000Z
DTEND:20260404T180000Z
DCREATED:20260313T050436Z
UID:ATEvent-712048f6f2a64ab2a95e857b5389154b
SEQUENCE:0
LAST-MODIFIED:20260313T050513Z
SUMMARY:Horner Wildflower Walk
LOCATION:UofL's Horner Bird & Wildlife Sanctuary (Crestwood\, Oldham Co.)
PRIORITY:3
TRANSP:0
END:VEVENT
END:VCALENDAR
