BEGIN:VCALENDAR
PRODID:-//AT Content Types//AT Event//EN
VERSION:2.0
METHOD:PUBLISH
BEGIN:VEVENT
DTSTAMP:20260421T115055Z
CREATED:20260420T152712Z
UID:ATEvent-7ae7db9177e549e889ff0fdd2ee569af
LAST-MODIFIED:20260420T152718Z
SUMMARY:Geographic & Environmental Science Capstone Poster Presentations
DTSTART:20260422T183000Z
DTEND:20260422T203000Z
LOCATION:Lutz Hall atrium
CLASS:PUBLIC
END:VEVENT
END:VCALENDAR
