BEGIN:VCALENDAR
PRODID:-//AT Content Types//AT Event//EN
VERSION:2.0
METHOD:PUBLISH
BEGIN:VEVENT
DTSTAMP:20260421T100515Z
CREATED:20260212T102853Z
UID:ATEvent-631b04a2d31045f6a558742146487901
LAST-MODIFIED:20260212T104012Z
SUMMARY:Garden Commons Expansion Workshop\, Part 1
DTSTART:20260216T210000Z
DTEND:20260216T230000Z
LOCATION:Garden Commons at Baptist Center
CONTACT:Zach Goble\, 606-339-6011\, zjgobl01@louisville.edu
CLASS:PUBLIC
END:VEVENT
END:VCALENDAR
