BEGIN:VCALENDAR
PRODID:-//AT Content Types//AT Event//EN
VERSION:1.0
BEGIN:VEVENT
DTSTART:20260817T210000Z
DTEND:20261123T230000Z
DCREATED:20260331T210654Z
UID:ATEvent-0071001ea03c4869a35e6dea5468ffd8
SEQUENCE:0
LAST-MODIFIED:20260331T210700Z
SUMMARY:Fall Garden Gatherings 2026
LOCATION:Garden Commons or Urban & Public Affairs Garden
PRIORITY:3
TRANSP:0
END:VEVENT
END:VCALENDAR
