BEGIN:VCALENDAR
PRODID:-//AT Content Types//AT Event//EN
VERSION:2.0
METHOD:PUBLISH
BEGIN:VEVENT
DTSTAMP:20260425T195356Z
CREATED:20251125T051841Z
UID:ATEvent-353b5307d5f5487da01d957316ce9119
LAST-MODIFIED:20260223T210111Z
SUMMARY:Ecolympics 2026
DTSTART:20260201T051000Z
DTEND:20260329T035500Z
LOCATION:University-wide
CONTACT:Gillian Mathauer\, (678) 943-9065\, gillian.mathauer@louisville.edu
CLASS:PUBLIC
END:VEVENT
END:VCALENDAR
