BEGIN:VCALENDAR
PRODID:-//AT Content Types//AT Event//EN
VERSION:2.0
METHOD:PUBLISH
BEGIN:VEVENT
DTSTAMP:20260422T183910Z
CREATED:20260220T222837Z
UID:ATEvent-1323a689def64be49ffc4c9d8447e70b
LAST-MODIFIED:20260223T210120Z
SUMMARY:Drive-up Drop-off E-Waste Collection
DTSTART:20260220T130000Z
DTEND:20260226T160000Z
LOCATION:CTR Building Loading Dock (618 E Muhammad Ali Blvd)
CONTACT:Skip Hurley\, (502) 599-6228\, skip.hurley@louisville.edu
CLASS:PUBLIC
END:VEVENT
END:VCALENDAR
