BEGIN:VCALENDAR
PRODID:-//AT Content Types//AT Event//EN
VERSION:2.0
METHOD:PUBLISH
BEGIN:VEVENT
DTSTAMP:20260422T220044Z
CREATED:20260217T061700Z
UID:ATEvent-c235ffa05fe84caf827b99402680085d
LAST-MODIFIED:20260217T061817Z
SUMMARY:Downtown Night Walk
DTSTART:20260303T230000Z
DTEND:20260304T013000Z
CONTACT:Patrick Piuma\, patrick.piuma@louisville.edu
URL:https://www.udstudio.org/stories/downtown-night-walk-03-03-2026
CLASS:PUBLIC
END:VEVENT
END:VCALENDAR
