BEGIN:VCALENDAR
PRODID:-//AT Content Types//AT Event//EN
VERSION:2.0
METHOD:PUBLISH
BEGIN:VEVENT
DTSTAMP:20260424T183628Z
CREATED:20260423T191149Z
UID:ATEvent-48b5fba8138f43e3acd740b35a82d698
LAST-MODIFIED:20260423T191647Z
SUMMARY:Bike Month Challenge
DTSTART:20260501T040000Z
DTEND:20260601T035500Z
LOCATION:University-wide
CONTACT:Justin Mog\, justin.mog@louisville.edu
URL:https://www.lovetoride.net/usa/pages/current-challenge?locale=en-US&page=1_challenge
CLASS:PUBLIC
END:VEVENT
END:VCALENDAR
