BEGIN:VCALENDAR
PRODID:-//AT Content Types//AT Event//EN
VERSION:1.0
BEGIN:VEVENT
DTSTART:20260409T213000Z
DTEND:20260410T000000Z
DCREATED:20260402T050429Z
UID:ATEvent-007c1dfa569e47829c631296493aa496
SEQUENCE:0
LAST-MODIFIED:20260402T050435Z
SUMMARY:2026 Breonna Taylor Lecture on Structural Inequality
LOCATION:Speed Art Museum
PRIORITY:3
TRANSP:0
END:VEVENT
END:VCALENDAR
