BEGIN:VCALENDAR
PRODID:-//AT Content Types//AT Event//EN
VERSION:2.0
METHOD:PUBLISH
BEGIN:VEVENT
DTSTAMP:20260421T172859Z
CREATED:20250221T223930Z
UID:ATEvent-c46d4a1e64ac4e5f9bab032a9b863804
LAST-MODIFIED:20250307T204227Z
SUMMARY:10th Annual Engaged Scholarship Symposium
DTSTART:20250321T130000Z
DTEND:20250321T190000Z
LOCATION:HSC Clinical & Translational Research Building
CONTACT:Henry Cunningham\, h.cunningham@louisville.edu
URL:https://louisville.edu/communityengagement/programs/symposium
CLASS:PUBLIC
END:VEVENT
END:VCALENDAR
