BEGIN:VCALENDAR
PRODID:-//AT Content Types//AT Event//EN
VERSION:2.0
METHOD:PUBLISH
BEGIN:VEVENT
DTSTAMP:20260421T185348Z
CREATED:20251002T183349Z
UID:ATEvent-3b605f3e1047420fa5ac4a5a1745b6bd
LAST-MODIFIED:20251002T183353Z
SUMMARY:Nature Masterclasses: Professional Development Training for Researchers & Scientists
DTSTART:20251016T130000Z
DTEND:20251016T140000Z
DESCRIPTION:All students\, faculty and staff can REGISTER to take clas
 ses and attend workshops from Nature Masterclasses for free using thei
 r louisville.edu email address.
LOCATION:Virtual
CONTACT:Kristi Treitman\, 502-424-0225\, kristi.treitman@louisville.edu
URL:https://events.teams.microsoft.com/event/9ab8f7b7-e3ef-45fe-b9cb-fe3af9fb4576@dd246e4a-5434-4e15-8ae3-91ad9797b209
CLASS:PUBLIC
END:VEVENT
END:VCALENDAR
