BEGIN:VCALENDAR
PRODID:-//AT Content Types//AT Event//EN
VERSION:1.0
BEGIN:VEVENT
DTSTART:20220921T130000Z
DTEND:20220921T150000Z
DCREATED:20220518T041128Z
UID:ATEvent-61f953d290e949a5bf3423eea3b4fb60
SEQUENCE:0
LAST-MODIFIED:20220826T010942Z
SUMMARY:Sept. 21 - Mentoring Workshop II - Format: in person/by invitation only
DESCRIPTION:Three 2-hour sessions\, R!L
LOCATION:KCCTRB 124
PRIORITY:3
TRANSP:0
END:VEVENT
END:VCALENDAR
