BEGIN:VCALENDAR
PRODID:-//AT Content Types//AT Event//EN
VERSION:1.0
BEGIN:VEVENT
DTSTART:20220919T180000Z
DTEND:20220919T190000Z
DCREATED:20220705T175047Z
UID:ATEvent-76d8ae9a71ca4393b8bd726bbe156468
SEQUENCE:0
LAST-MODIFIED:20220902T210320Z
SUMMARY:Sept. 19: How to Support Self-directed Learning Across the HSC
DESCRIPTION:faculty development workshop
LOCATION:KCCTRB 124
PRIORITY:3
TRANSP:0
END:VEVENT
END:VCALENDAR
